Package: GeneTonic Version: 2.6.0 Command: /Library/Frameworks/R.framework/Resources/bin/R CMD build --keep-empty-dirs --no-resave-data GeneTonic StartedAt: 2024-03-03 16:49:54 -0500 (Sun, 03 Mar 2024) EndedAt: 2024-03-03 16:51:41 -0500 (Sun, 03 Mar 2024) EllapsedTime: 107.4 seconds RetCode: 0 Status: OK PackageFile: GeneTonic_2.6.0.tar.gz PackageFileSize: 9.052 MiB