Package: GeneTonic Version: 2.6.0 Command: chmod a+r GeneTonic -R && F:\biocbuild\bbs-3.18-bioc\R\bin\R.exe CMD build --keep-empty-dirs --no-resave-data GeneTonic StartedAt: 2024-04-15 18:41:33 -0400 (Mon, 15 Apr 2024) EndedAt: 2024-04-15 18:43:33 -0400 (Mon, 15 Apr 2024) EllapsedTime: 120.6 seconds RetCode: 0 Status: OK PackageFile: GeneTonic_2.6.0.tar.gz PackageFileSize: 7.445 MiB