Package: GenomAutomorphism Version: 1.4.0 Command: /home/biocbuild/R/R-4.3.1/bin/R CMD check --install=check:GenomAutomorphism.install-out.txt --library=/home/biocbuild/R/R-4.3.1/site-library --no-vignettes --timings GenomAutomorphism_1.4.0.tar.gz StartedAt: 2023-11-02 10:48:33 -0000 (Thu, 02 Nov 2023) EndedAt: 2023-11-02 10:52:31 -0000 (Thu, 02 Nov 2023) EllapsedTime: 238.5 seconds RetCode: 0 Status: OK CheckDir: GenomAutomorphism.Rcheck Warnings: 0