Package: GenomAutomorphism Version: 1.4.0 Command: rm -rf GenomAutomorphism.buildbin-libdir && mkdir GenomAutomorphism.buildbin-libdir && F:\biocbuild\bbs-3.18-bioc\R\bin\R.exe CMD INSTALL --build --library=GenomAutomorphism.buildbin-libdir GenomAutomorphism_1.4.0.tar.gz StartedAt: 2024-04-16 07:03:44 -0400 (Tue, 16 Apr 2024) EndedAt: 2024-04-16 07:04:23 -0400 (Tue, 16 Apr 2024) EllapsedTime: 39.3 seconds RetCode: 0 Status: OK PackageFile: GenomAutomorphism_1.4.0.zip PackageFileSize: 1.557 MiB