Package: GenomeInfoDb Version: 1.38.6 Command: rm -rf GenomeInfoDb.buildbin-libdir && mkdir GenomeInfoDb.buildbin-libdir && /Users/biocbuild/BBS/utils/build-universal.sh GenomeInfoDb_1.38.6.tar.gz /Library/Frameworks/R.framework/Resources/bin/R GenomeInfoDb.buildbin-libdir StartedAt: 2024-03-04 00:42:58 -0500 (Mon, 04 Mar 2024) EndedAt: 2024-03-04 00:43:20 -0500 (Mon, 04 Mar 2024) EllapsedTime: 21.4 seconds RetCode: 0 Status: OK PackageFile: GenomeInfoDb_1.38.6.tgz PackageFileSize: 3.988 MiB