Package: GenomeInfoDb Version: 1.38.8 Command: F:\biocbuild\bbs-3.18-bioc\R\bin\R.exe CMD check --no-multiarch --install=check:GenomeInfoDb.install-out.txt --library=F:\biocbuild\bbs-3.18-bioc\R\library --no-vignettes --timings GenomeInfoDb_1.38.8.tar.gz StartedAt: 2024-04-16 01:05:43 -0400 (Tue, 16 Apr 2024) EndedAt: 2024-04-16 01:17:17 -0400 (Tue, 16 Apr 2024) EllapsedTime: 693.6 seconds RetCode: 0 Status: OK CheckDir: GenomeInfoDb.Rcheck Warnings: 0