Package: GenomicAlignments Version: 1.38.2 Command: /Library/Frameworks/R.framework/Resources/bin/R CMD build --keep-empty-dirs --no-resave-data GenomicAlignments StartedAt: 2024-04-15 18:54:36 -0400 (Mon, 15 Apr 2024) EndedAt: 2024-04-15 18:58:36 -0400 (Mon, 15 Apr 2024) EllapsedTime: 240.4 seconds RetCode: 0 Status: OK PackageFile: GenomicAlignments_1.38.2.tar.gz PackageFileSize: 2.162 MiB