Package: GenomicAlignments Version: 1.38.2 Command: rm -rf GenomicAlignments.buildbin-libdir && mkdir GenomicAlignments.buildbin-libdir && F:\biocbuild\bbs-3.18-bioc\R\bin\R.exe CMD INSTALL --build --library=GenomicAlignments.buildbin-libdir GenomicAlignments_1.38.2.tar.gz StartedAt: 2024-04-16 07:03:51 -0400 (Tue, 16 Apr 2024) EndedAt: 2024-04-16 07:04:52 -0400 (Tue, 16 Apr 2024) EllapsedTime: 60.8 seconds RetCode: 0 Status: OK PackageFile: GenomicAlignments_1.38.2.zip PackageFileSize: 2.267 MiB