Package: GenomicAlignments Version: 1.38.2 Command: chmod a+r GenomicAlignments -R && F:\biocbuild\bbs-3.18-bioc\R\bin\R.exe CMD build --keep-empty-dirs --no-resave-data GenomicAlignments StartedAt: 2024-04-15 18:42:14 -0400 (Mon, 15 Apr 2024) EndedAt: 2024-04-15 18:44:44 -0400 (Mon, 15 Apr 2024) EllapsedTime: 149.4 seconds RetCode: 0 Status: OK PackageFile: GenomicAlignments_1.38.2.tar.gz PackageFileSize: 2.166 MiB