Package: GenomicAlignments Version: 1.38.2 Command: F:\biocbuild\bbs-3.18-bioc\R\bin\R.exe CMD INSTALL GenomicAlignments StartedAt: 2024-04-15 15:54:46 -0400 (Mon, 15 Apr 2024) EndedAt: 2024-04-15 15:55:45 -0400 (Mon, 15 Apr 2024) EllapsedTime: 59.3 seconds RetCode: 0 Status: OK