Package: GenomicDataCommons Version: 1.26.0 Command: /Library/Frameworks/R.framework/Resources/bin/R CMD build --keep-empty-dirs --no-resave-data GenomicDataCommons StartedAt: 2024-03-03 16:50:17 -0500 (Sun, 03 Mar 2024) EndedAt: 2024-03-03 16:51:26 -0500 (Sun, 03 Mar 2024) EllapsedTime: 68.8 seconds RetCode: 0 Status: OK PackageFile: GenomicDataCommons_1.26.0.tar.gz PackageFileSize: 2.383 MiB