Package: GenomicDataCommons Version: 1.26.0 Command: /Library/Frameworks/R.framework/Resources/bin/R CMD INSTALL GenomicDataCommons StartedAt: 2024-03-03 15:08:31 -0500 (Sun, 03 Mar 2024) EndedAt: 2024-03-03 15:08:49 -0500 (Sun, 03 Mar 2024) EllapsedTime: 18.5 seconds RetCode: 0 Status: OK