Package: GenomicDataCommons Version: 1.26.0 Command: /home/biocbuild/bbs-3.18-bioc/R/bin/R CMD check --install=check:GenomicDataCommons.install-out.txt --library=/home/biocbuild/bbs-3.18-bioc/R/site-library --timings GenomicDataCommons_1.26.0.tar.gz StartedAt: 2024-04-15 23:05:56 -0400 (Mon, 15 Apr 2024) EndedAt: 2024-04-15 23:09:11 -0400 (Mon, 15 Apr 2024) EllapsedTime: 195.0 seconds RetCode: 0 Status: OK CheckDir: GenomicDataCommons.Rcheck Warnings: 0