Package: GenomicFeatures Version: 1.54.1 Command: /home/biocbuild/R/R-4.3.1/bin/R CMD build --keep-empty-dirs --no-resave-data GenomicFeatures StartedAt: 2023-11-02 01:26:53 -0000 (Thu, 02 Nov 2023) EndedAt: 2023-11-02 01:28:49 -0000 (Thu, 02 Nov 2023) EllapsedTime: 116.2 seconds RetCode: 0 Status: OK PackageFile: GenomicFeatures_1.54.1.tar.gz PackageFileSize: 1.126 MiB