Package: GenomicFeatures Version: 1.54.1 Command: /home/biocbuild/R/R-4.3.1/bin/R CMD INSTALL GenomicFeatures StartedAt: 2023-11-01 20:26:01 -0000 (Wed, 01 Nov 2023) EndedAt: 2023-11-01 20:27:00 -0000 (Wed, 01 Nov 2023) EllapsedTime: 58.9 seconds RetCode: 0 Status: OK