Package: GenomicFeatures Version: 1.54.3 Command: /Library/Frameworks/R.framework/Resources/bin/R CMD build --keep-empty-dirs --no-resave-data GenomicFeatures StartedAt: 2024-03-03 16:50:25 -0500 (Sun, 03 Mar 2024) EndedAt: 2024-03-03 16:52:05 -0500 (Sun, 03 Mar 2024) EllapsedTime: 99.4 seconds RetCode: 1 Status: ERROR PackageFile: None PackageFileSize: NA