Package: GenomicFeatures Version: 1.54.4 Command: /Library/Frameworks/R.framework/Resources/bin/R CMD build --keep-empty-dirs --no-resave-data GenomicFeatures StartedAt: 2024-04-15 18:55:02 -0400 (Mon, 15 Apr 2024) EndedAt: 2024-04-15 18:58:13 -0400 (Mon, 15 Apr 2024) EllapsedTime: 191.4 seconds RetCode: 0 Status: OK PackageFile: GenomicFeatures_1.54.4.tar.gz PackageFileSize: 1.124 MiB