Package: GenomicFeatures Version: 1.54.4 Command: /home/biocbuild/bbs-3.18-bioc/R/bin/R CMD check --install=check:GenomicFeatures.install-out.txt --library=/home/biocbuild/bbs-3.18-bioc/R/site-library --timings GenomicFeatures_1.54.4.tar.gz StartedAt: 2024-04-15 23:06:10 -0400 (Mon, 15 Apr 2024) EndedAt: 2024-04-15 23:25:36 -0400 (Mon, 15 Apr 2024) EllapsedTime: 1166.1 seconds RetCode: 0 Status: OK CheckDir: GenomicFeatures.Rcheck Warnings: 0