Package: GenomicFeatures Version: 1.54.4 Command: /home/biocbuild/bbs-3.18-bioc/R/bin/R CMD INSTALL GenomicFeatures StartedAt: 2024-04-15 15:24:19 -0400 (Mon, 15 Apr 2024) EndedAt: 2024-04-15 15:25:03 -0400 (Mon, 15 Apr 2024) EllapsedTime: 43.4 seconds RetCode: 0 Status: OK