Package: GenomicFeatures Version: 1.54.4 Command: F:\biocbuild\bbs-3.18-bioc\R\bin\R.exe CMD check --no-multiarch --install=check:GenomicFeatures.install-out.txt --library=F:\biocbuild\bbs-3.18-bioc\R\library --no-vignettes --timings GenomicFeatures_1.54.4.tar.gz StartedAt: 2024-04-16 01:06:23 -0400 (Tue, 16 Apr 2024) EndedAt: 2024-04-16 01:24:31 -0400 (Tue, 16 Apr 2024) EllapsedTime: 1088.2 seconds RetCode: 0 Status: OK CheckDir: GenomicFeatures.Rcheck Warnings: 0