Package: GenomicInteractions Version: 1.36.0 Command: /Library/Frameworks/R.framework/Resources/bin/R CMD build --keep-empty-dirs --no-resave-data GenomicInteractions StartedAt: 2024-04-15 18:56:39 -0400 (Mon, 15 Apr 2024) EndedAt: 2024-04-15 19:03:07 -0400 (Mon, 15 Apr 2024) EllapsedTime: 388.6 seconds RetCode: 0 Status: OK PackageFile: GenomicInteractions_1.36.0.tar.gz PackageFileSize: 3.507 MiB