Package: GenomicTuples Version: 1.36.0 Command: /home/biocbuild/bbs-3.18-bioc/R/bin/R CMD INSTALL GenomicTuples StartedAt: 2024-04-15 15:10:45 -0400 (Mon, 15 Apr 2024) EndedAt: 2024-04-15 15:11:17 -0400 (Mon, 15 Apr 2024) EllapsedTime: 32.1 seconds RetCode: 0 Status: OK