Package: GeomxTools Version: 3.6.1 Command: /home/biocbuild/R/R-4.3.1/bin/R CMD build --keep-empty-dirs --no-resave-data GeomxTools StartedAt: 2023-11-02 01:31:49 -0000 (Thu, 02 Nov 2023) EndedAt: 2023-11-02 01:40:58 -0000 (Thu, 02 Nov 2023) EllapsedTime: 549.7 seconds RetCode: 0 Status: OK PackageFile: GeomxTools_3.6.1.tar.gz PackageFileSize: 16.1 MiB