Package: GeomxTools Version: 3.6.2 Command: /Library/Frameworks/R.framework/Resources/bin/R CMD build --keep-empty-dirs --no-resave-data GeomxTools StartedAt: 2024-04-15 18:58:10 -0400 (Mon, 15 Apr 2024) EndedAt: 2024-04-15 19:08:09 -0400 (Mon, 15 Apr 2024) EllapsedTime: 598.6 seconds RetCode: 1 Status: ERROR PackageFile: None PackageFileSize: NA