Package: GraphAlignment Version: 1.66.0 Command: /Library/Frameworks/R.framework/Resources/bin/R CMD build --keep-empty-dirs --no-resave-data GraphAlignment StartedAt: 2024-03-03 16:56:40 -0500 (Sun, 03 Mar 2024) EndedAt: 2024-03-03 16:56:53 -0500 (Sun, 03 Mar 2024) EllapsedTime: 13.5 seconds RetCode: 0 Status: OK PackageFile: GraphAlignment_1.66.0.tar.gz PackageFileSize: 590.9 KiB