Package: GraphAlignment Version: 1.66.0 Command: /home/biocbuild/bbs-3.18-bioc/R/bin/R CMD check --install=check:GraphAlignment.install-out.txt --library=/home/biocbuild/bbs-3.18-bioc/R/site-library --timings GraphAlignment_1.66.0.tar.gz StartedAt: 2024-04-15 23:29:22 -0400 (Mon, 15 Apr 2024) EndedAt: 2024-04-15 23:29:40 -0400 (Mon, 15 Apr 2024) EllapsedTime: 18.0 seconds RetCode: 0 Status: WARNINGS CheckDir: GraphAlignment.Rcheck Warnings: 1