Package: GreyListChIP Version: 1.34.0 Maintainer: Matt Eldridge MaintainerEmail: matthew.eldridge at cruk.cam.ac.uk git_url: https://git.bioconductor.org/packages/GreyListChIP git_branch: RELEASE_3_18 git_last_commit: 75f5a62 git_last_commit_date: 2023-10-24 10:41:19 -0400 (Tue, 24 Oct 2023)