Package: GreyListChIP Version: 1.34.0 Command: rm -rf GreyListChIP.buildbin-libdir && mkdir GreyListChIP.buildbin-libdir && /Users/biocbuild/BBS/utils/build-universal.sh GreyListChIP_1.34.0.tar.gz /Library/Frameworks/R.framework/Resources/bin/R GreyListChIP.buildbin-libdir StartedAt: 2024-03-04 00:44:38 -0500 (Mon, 04 Mar 2024) EndedAt: 2024-03-04 00:45:29 -0500 (Mon, 04 Mar 2024) EllapsedTime: 51.3 seconds RetCode: 0 Status: OK PackageFile: GreyListChIP_1.34.0.tgz PackageFileSize: 892.3 KiB