Package: GreyListChIP Version: 1.34.0 Command: rm -rf GreyListChIP.buildbin-libdir && mkdir GreyListChIP.buildbin-libdir && F:\biocbuild\bbs-3.18-bioc\R\bin\R.exe CMD INSTALL --build --library=GreyListChIP.buildbin-libdir GreyListChIP_1.34.0.tar.gz StartedAt: 2024-04-16 07:06:54 -0400 (Tue, 16 Apr 2024) EndedAt: 2024-04-16 07:07:50 -0400 (Tue, 16 Apr 2024) EllapsedTime: 56.7 seconds RetCode: 0 Status: OK PackageFile: GreyListChIP_1.34.0.zip PackageFileSize: 899.1 KiB