Package: HDF5Array Version: 1.30.1 Command: /home/biocbuild/bbs-3.18-bioc/R/bin/R CMD check --install=check:HDF5Array.install-out.txt --library=/home/biocbuild/bbs-3.18-bioc/R/site-library --timings HDF5Array_1.30.1.tar.gz StartedAt: 2024-04-15 23:40:22 -0400 (Mon, 15 Apr 2024) EndedAt: 2024-04-15 23:45:38 -0400 (Mon, 15 Apr 2024) EllapsedTime: 316.3 seconds RetCode: 0 Status: WARNINGS CheckDir: HDF5Array.Rcheck Warnings: 1