Package: HDF5Array Version: 1.30.1 Command: chmod a+r HDF5Array -R && F:\biocbuild\bbs-3.18-bioc\R\bin\R.exe CMD build --keep-empty-dirs --no-resave-data HDF5Array StartedAt: 2024-04-15 19:00:21 -0400 (Mon, 15 Apr 2024) EndedAt: 2024-04-15 19:00:26 -0400 (Mon, 15 Apr 2024) EllapsedTime: 5.3 seconds RetCode: 0 Status: OK PackageFile: HDF5Array_1.30.1.tar.gz PackageFileSize: 7.723 MiB