Package: HDTD Version: 1.36.0 Command: /home/biocbuild/bbs-3.18-bioc/R/bin/R CMD check --install=check:HDTD.install-out.txt --library=/home/biocbuild/bbs-3.18-bioc/R/site-library --timings HDTD_1.36.0.tar.gz StartedAt: 2024-04-15 23:40:33 -0400 (Mon, 15 Apr 2024) EndedAt: 2024-04-15 23:40:54 -0400 (Mon, 15 Apr 2024) EllapsedTime: 20.3 seconds RetCode: 0 Status: OK CheckDir: HDTD.Rcheck Warnings: 0