Package: HDTD Version: 1.36.0 Command: chmod a+r HDTD -R && F:\biocbuild\bbs-3.18-bioc\R\bin\R.exe CMD build --keep-empty-dirs --no-resave-data HDTD StartedAt: 2024-04-15 19:00:26 -0400 (Mon, 15 Apr 2024) EndedAt: 2024-04-15 19:01:06 -0400 (Mon, 15 Apr 2024) EllapsedTime: 39.3 seconds RetCode: 0 Status: OK PackageFile: HDTD_1.36.0.tar.gz PackageFileSize: 162.8 KiB