Package: HMMcopy Version: 1.44.0 Command: rm -rf HMMcopy.buildbin-libdir && mkdir HMMcopy.buildbin-libdir && /Users/biocbuild/BBS/utils/build-universal.sh HMMcopy_1.44.0.tar.gz /Library/Frameworks/R.framework/Resources/bin/R HMMcopy.buildbin-libdir StartedAt: 2024-03-04 00:45:50 -0500 (Mon, 04 Mar 2024) EndedAt: 2024-03-04 00:46:00 -0500 (Mon, 04 Mar 2024) EllapsedTime: 10.3 seconds RetCode: 0 Status: OK PackageFile: HMMcopy_1.44.0.tgz PackageFileSize: 1.956 MiB