Package: HMMcopy Version: 1.44.0 Command: /Library/Frameworks/R.framework/Resources/bin/R CMD build --keep-empty-dirs --no-resave-data HMMcopy StartedAt: 2024-04-15 19:22:18 -0400 (Mon, 15 Apr 2024) EndedAt: 2024-04-15 19:23:07 -0400 (Mon, 15 Apr 2024) EllapsedTime: 49.4 seconds RetCode: 0 Status: OK PackageFile: HMMcopy_1.44.0.tar.gz PackageFileSize: 1.79 MiB