Package: HMMcopy Version: 1.44.0 Command: /home/biocbuild/bbs-3.18-bioc/R/bin/R CMD build --keep-empty-dirs --no-resave-data HMMcopy StartedAt: 2024-04-15 17:31:49 -0400 (Mon, 15 Apr 2024) EndedAt: 2024-04-15 17:32:03 -0400 (Mon, 15 Apr 2024) EllapsedTime: 14.3 seconds RetCode: 0 Status: OK PackageFile: HMMcopy_1.44.0.tar.gz PackageFileSize: 1.725 MiB