Package: HPAanalyze Version: 1.20.0 Command: rm -rf HPAanalyze.buildbin-libdir && mkdir HPAanalyze.buildbin-libdir && /Users/biocbuild/BBS/utils/build-universal.sh HPAanalyze_1.20.0.tar.gz /Library/Frameworks/R.framework/Resources/bin/R HPAanalyze.buildbin-libdir StartedAt: 2024-03-04 00:45:52 -0500 (Mon, 04 Mar 2024) EndedAt: 2024-03-04 00:46:52 -0500 (Mon, 04 Mar 2024) EllapsedTime: 60.4 seconds RetCode: 0 Status: OK PackageFile: HPAanalyze_1.20.0.tgz PackageFileSize: 6.892 MiB