Package: HPAanalyze Version: 1.20.0 Command: /Library/Frameworks/R.framework/Resources/bin/R CMD build --keep-empty-dirs --no-resave-data HPAanalyze StartedAt: 2024-03-03 17:03:37 -0500 (Sun, 03 Mar 2024) EndedAt: 2024-03-03 17:04:46 -0500 (Sun, 03 Mar 2024) EllapsedTime: 68.8 seconds RetCode: 0 Status: OK PackageFile: HPAanalyze_1.20.0.tar.gz PackageFileSize: 6.786 MiB