Package: Herper Version: 1.12.0 Command: rm -rf Herper.buildbin-libdir && mkdir Herper.buildbin-libdir && F:\biocbuild\bbs-3.18-bioc\R\bin\R.exe CMD INSTALL --build --library=Herper.buildbin-libdir Herper_1.12.0.tar.gz StartedAt: 2024-04-16 07:08:05 -0400 (Tue, 16 Apr 2024) EndedAt: 2024-04-16 07:08:15 -0400 (Tue, 16 Apr 2024) EllapsedTime: 9.3 seconds RetCode: 0 Status: OK PackageFile: Herper_1.12.0.zip PackageFileSize: 465.8 KiB