Package: HiCDOC Version: 1.4.1 Command: /Library/Frameworks/R.framework/Resources/bin/R CMD INSTALL HiCDOC StartedAt: 2024-03-03 15:15:09 -0500 (Sun, 03 Mar 2024) EndedAt: 2024-03-03 15:16:10 -0500 (Sun, 03 Mar 2024) EllapsedTime: 61.5 seconds RetCode: 0 Status: OK