Package: HiCDOC Version: 1.4.1 Command: F:\biocbuild\bbs-3.18-bioc\R\bin\R.exe CMD INSTALL HiCDOC StartedAt: 2024-04-15 15:54:29 -0400 (Mon, 15 Apr 2024) EndedAt: 2024-04-15 15:55:37 -0400 (Mon, 15 Apr 2024) EllapsedTime: 68.8 seconds RetCode: 0 Status: OK