Package: HiContacts Version: 1.4.0 Command: rm -rf HiContacts.buildbin-libdir && mkdir HiContacts.buildbin-libdir && /Users/biocbuild/BBS/utils/build-universal.sh HiContacts_1.4.0.tar.gz /Library/Frameworks/R.framework/Resources/bin/R HiContacts.buildbin-libdir StartedAt: 2024-03-04 00:45:26 -0500 (Mon, 04 Mar 2024) EndedAt: 2024-03-04 00:46:12 -0500 (Mon, 04 Mar 2024) EllapsedTime: 45.7 seconds RetCode: 0 Status: OK PackageFile: HiContacts_1.4.0.tgz PackageFileSize: 4.504 MiB