Package: HiContacts Version: 1.4.0 Command: /Library/Frameworks/R.framework/Resources/bin/R CMD build --keep-empty-dirs --no-resave-data HiContacts StartedAt: 2024-03-03 17:02:27 -0500 (Sun, 03 Mar 2024) EndedAt: 2024-03-03 17:09:40 -0500 (Sun, 03 Mar 2024) EllapsedTime: 433.3 seconds RetCode: 0 Status: OK PackageFile: HiContacts_1.4.0.tar.gz PackageFileSize: 4.354 MiB