Package: HiContacts Version: 1.4.0 Command: /Library/Frameworks/R.framework/Resources/bin/R CMD build --keep-empty-dirs --no-resave-data HiContacts StartedAt: 2024-04-15 19:20:38 -0400 (Mon, 15 Apr 2024) EndedAt: 2024-04-15 19:31:40 -0400 (Mon, 15 Apr 2024) EllapsedTime: 661.7 seconds RetCode: 0 Status: OK PackageFile: HiContacts_1.4.0.tar.gz PackageFileSize: 5.373 MiB