Package: HiContacts Version: 1.4.0 Command: /Library/Frameworks/R.framework/Resources/bin/R CMD check --install=check:HiContacts.install-out.txt --library=/Library/Frameworks/R.framework/Resources/library --no-vignettes --timings HiContacts_1.4.0.tar.gz StartedAt: 2024-04-16 03:55:18 -0400 (Tue, 16 Apr 2024) EndedAt: 2024-04-16 04:12:00 -0400 (Tue, 16 Apr 2024) EllapsedTime: 1002.2 seconds RetCode: 0 Status: OK CheckDir: HiContacts.Rcheck Warnings: 0