Package: HiContacts Version: 1.4.0 Command: /home/biocbuild/bbs-3.18-bioc/R/bin/R CMD build --keep-empty-dirs --no-resave-data HiContacts StartedAt: 2024-04-15 17:30:13 -0400 (Mon, 15 Apr 2024) EndedAt: 2024-04-15 17:35:23 -0400 (Mon, 15 Apr 2024) EllapsedTime: 310.5 seconds RetCode: 0 Status: OK PackageFile: HiContacts_1.4.0.tar.gz PackageFileSize: 4.25 MiB