Package: HiLDA Version: 1.16.0 Command: /home/biocbuild/R/R-4.3.1/bin/R CMD check --install=check:HiLDA.install-out.txt --library=/home/biocbuild/R/R-4.3.1/site-library --no-vignettes --timings HiLDA_1.16.0.tar.gz StartedAt: 2023-11-02 11:18:14 -0000 (Thu, 02 Nov 2023) EndedAt: 2023-11-02 11:23:08 -0000 (Thu, 02 Nov 2023) EllapsedTime: 294.3 seconds RetCode: 0 Status: OK CheckDir: HiLDA.Rcheck Warnings: 0