Package: HiLDA Version: 1.16.0 Command: /Library/Frameworks/R.framework/Resources/bin/R CMD build --keep-empty-dirs --no-resave-data HiLDA StartedAt: 2024-04-15 19:21:18 -0400 (Mon, 15 Apr 2024) EndedAt: 2024-04-15 19:29:00 -0400 (Mon, 15 Apr 2024) EllapsedTime: 462.0 seconds RetCode: 0 Status: OK PackageFile: HiLDA_1.16.0.tar.gz PackageFileSize: 2.459 MiB