Package: HiLDA Version: 1.16.0 Command: rm -rf HiLDA.buildbin-libdir && mkdir HiLDA.buildbin-libdir && F:\biocbuild\bbs-3.18-bioc\R\bin\R.exe CMD INSTALL --build --library=HiLDA.buildbin-libdir HiLDA_1.16.0.tar.gz StartedAt: 2024-04-16 07:08:36 -0400 (Tue, 16 Apr 2024) EndedAt: 2024-04-16 07:09:20 -0400 (Tue, 16 Apr 2024) EllapsedTime: 43.9 seconds RetCode: 0 Status: OK PackageFile: HiLDA_1.16.0.zip PackageFileSize: 2.865 MiB