Package: HiTC
Version: 1.46.0
Command: /Library/Frameworks/R.framework/Resources/bin/R CMD check --install=check:HiTC.install-out.txt --library=/Library/Frameworks/R.framework/Resources/library --no-vignettes --timings HiTC_1.46.0.tar.gz
StartedAt: 2024-04-16 04:01:42 -0400 (Tue, 16 Apr 2024)
EndedAt: 2024-04-16 04:10:15 -0400 (Tue, 16 Apr 2024)
EllapsedTime: 513.1 seconds
RetCode: 0
Status: WARNINGS
CheckDir: HiTC.Rcheck
Warnings: 1